BEGIN:VCALENDAR
VERSION:2.0
PRODID:-//Auto Master Systems - ECPv6.15.20//NONSGML v1.0//EN
CALSCALE:GREGORIAN
METHOD:PUBLISH
X-WR-CALNAME:Auto Master Systems
X-ORIGINAL-URL:https://auto-master.com
X-WR-CALDESC:Events for Auto Master Systems
REFRESH-INTERVAL;VALUE=DURATION:PT1H
X-Robots-Tag:noindex
X-PUBLISHED-TTL:PT1H
BEGIN:VTIMEZONE
TZID:America/Phoenix
BEGIN:STANDARD
TZOFFSETFROM:-0700
TZOFFSETTO:-0700
TZNAME:MST
DTSTART:20240101T000000
END:STANDARD
END:VTIMEZONE
BEGIN:VEVENT
DTSTART;VALUE=DATE:20250506
DTEND;VALUE=DATE:20260507
DTSTAMP:20260424T063029
CREATED:20250506T185645Z
LAST-MODIFIED:20250515T172329Z
UID:2441-1746489600-1778111999@auto-master.com
SUMMARY:Auto Master Systems\, Inc. (AMS) and Atlanta-based WWDA\, LLC (WWDA) Announce Merger to Deliver All-in-One\, Browser-Based Automotive Software Solution 
DESCRIPTION:Houston\, TX – 5/5/2025 – After more than eight years of exclusive collaboration on products under the AMS Analytics brand\, Auto Master Systems\, Inc. and WWDA\, LLC are excited to announce their recent merger. This strategic union combines AMS’s over 35 years of automotive software experience with WWDA’s development and innovation capabilities.  The combination is driven by a shared vision to empower clients through a fully integrated\, browser-based platform.  \nThe newly combined company will offer a single\, seamless solution that includes:  \n\nCRM (Customer Relationship Management) \n\n\nLOS (Loan Origination System) \n\n\nDMS (Dealer Management System) \n\n\nAdvanced Data Analytics \n\n\nWebsite and Social Media Marketing Integration \n\nBuilt for today’s rapidly changing financial technology\, the platform is designed to streamline operations\, unify data\, and drive smarter decisions — giving dealerships and auto lenders the tools they need to THRIVE in a competitive landscape.  AMS’s Dealer360 has been delivering a browser based Front-End (CRM / LOS) since 2022.  We are now merging other modules (inventory\, collections\, loan management\, etc.) into the same end-to-end solution.  \n“This merger is the next natural step in a partnership built on trust\, innovation\, and results\,” said Mike Downey\, Auto Master Systems. “Together\, we’re delivering a truly end-to-end solution that’s intuitive\, scalable\, and built for the future.”  \nClients can expect a smooth transition\, expanded capabilities\, and continued commitment to service excellence. With this merger\, Auto Master Systems and WWDA are setting a new standard for automotive software innovation.  \nContact:\nMike Downey  \nPresident  \nwww.Auto-master.com  \n 
URL:https://auto-master.com/event/auto-master-systems-inc-ams-and-atlanta-based-wwda-llc-wwda-announce-merger-to-deliver-all-in-one-browser-based-automotive-software-solution/
LOCATION:NJ
END:VEVENT
END:VCALENDAR